BEGIN:VCALENDAR
VERSION:2.0
PRODID:-//AudioTheme 2.3.4
BEGIN:VEVENT
UID:urn:uuid:b7373c98-03e4-43bc-8e22-4974b49d48db
URL:https://vudelabas.com/evenements/decolonize-that-1-in-the-beginning-there-was-black-feminism/
DTSTART;VALUE=DATE:20201002
SUMMARY:Decolonize That! 1-- In the Beginning, There Was Black Feminism
LOCATION:Webinar\, Virtual\, Webniar\, Internet
END:VEVENT
END:VCALENDAR
