BEGIN:VCALENDAR
VERSION:2.0
PRODID:-//AudioTheme 2.3.4
BEGIN:VEVENT
UID:urn:uuid:cc0dc599-d28a-40d4-bc2f-95ff6ef18daf
URL:https://vudelabas.com/evenements/nyansapo-fest-2024/
DTSTART;TZID=GMT:20240921T090000
SUMMARY:NYANSAPO FEST' 2024
LOCATION:Artagon Pantin\, 34 Rue Cartier Bresson\, Pantin\, \, France
END:VEVENT
END:VCALENDAR
