BEGIN:VCALENDAR
VERSION:2.0
PRODID:-//AudioTheme 2.3.4
BEGIN:VEVENT
UID:urn:uuid:cc76ba25-81ce-4fac-b95e-2efff3483c1b
URL:https://vudelabas.com/evenements/racism-colonialism-gender-working-group/
DTSTART;TZID=GMT:20240510T153000
SUMMARY:Racism, Colonialism & Gender Working Group
DESCRIPTION:Wrapping up the semester with a talk at the 'Racism\, Colonialism & Gender Working Group' at SUNY Stony Brook.
LOCATION:SUNY Stony Brook\, SUNY Stony Brook 100 Nicolls Rd\, Stony Brook\, NY 11794\, \, New York\, USA\, 11794
END:VEVENT
END:VCALENDAR
