BEGIN:VCALENDAR
VERSION:2.0
PRODID:-//AudioTheme 2.3.4
BEGIN:VEVENT
UID:urn:uuid:dfe05625-9d1b-4ef3-b3f1-00e6f643c92b
URL:https://vudelabas.com/evenements/rencontre-litteraire-10-questions-sur-les-feminismes-noirs/
DTSTART;TZID=GMT:20241021T170000
SUMMARY:Rencontre autour de "10 questions sur les Féminismes Noirs"
LOCATION:Transit Librairie\, Transit Librairie 51 Bd de la Libération\, 13001 Marseille\, France\, Marseille\, \, France\, 13001
END:VEVENT
END:VCALENDAR
