BEGIN:VCALENDAR
VERSION:2.0
PRODID:-//AudioTheme 2.3.4
BEGIN:VEVENT
UID:urn:uuid:76ba0288-703d-4ad4-9fbd-6d73b8621eae
URL:https://vudelabas.com/evenements/scholar-strike-canada-teach-ins-and-day-of-action-black-feminist-struggle-and-the-transnational-politics-of-abolition/
DTSTART;VALUE=DATE:20220322
SUMMARY:Scholar Strike Canada Teach-Ins and Day of Action: Black Feminist Struggle and the Transnational Politics of Abolition
LOCATION:Webinar\, Virtual\, Webniar\, Internet
END:VEVENT
END:VCALENDAR
